BEGIN:VCALENDAR
VERSION:2.0
PRODID:-//Radom Wasserkuppe - ECPv6.15.20//NONSGML v1.0//EN
CALSCALE:GREGORIAN
METHOD:PUBLISH
X-WR-CALNAME:Radom Wasserkuppe
X-ORIGINAL-URL:https://radom-wasserkuppe.de
X-WR-CALDESC:Veranstaltungen für Radom Wasserkuppe
REFRESH-INTERVAL;VALUE=DURATION:PT1H
X-Robots-Tag:noindex
X-PUBLISHED-TTL:PT1H
BEGIN:VTIMEZONE
TZID:Europe/Berlin
BEGIN:DAYLIGHT
TZOFFSETFROM:+0100
TZOFFSETTO:+0200
TZNAME:CEST
DTSTART:20250330T010000
END:DAYLIGHT
BEGIN:STANDARD
TZOFFSETFROM:+0200
TZOFFSETTO:+0100
TZNAME:CET
DTSTART:20251026T010000
END:STANDARD
BEGIN:DAYLIGHT
TZOFFSETFROM:+0100
TZOFFSETTO:+0200
TZNAME:CEST
DTSTART:20260329T010000
END:DAYLIGHT
BEGIN:STANDARD
TZOFFSETFROM:+0200
TZOFFSETTO:+0100
TZNAME:CET
DTSTART:20261025T010000
END:STANDARD
BEGIN:DAYLIGHT
TZOFFSETFROM:+0100
TZOFFSETTO:+0200
TZNAME:CEST
DTSTART:20270328T010000
END:DAYLIGHT
BEGIN:STANDARD
TZOFFSETFROM:+0200
TZOFFSETTO:+0100
TZNAME:CET
DTSTART:20271031T010000
END:STANDARD
END:VTIMEZONE
BEGIN:VEVENT
DTSTART;TZID=Europe/Berlin:20260402T203000
DTEND;TZID=Europe/Berlin:20260402T220000
DTSTAMP:20260421T175433
CREATED:20260306T135610Z
LAST-MODIFIED:20260306T135745Z
UID:10000161-1775161800-1775167200@radom-wasserkuppe.de
SUMMARY:Astronomischer Vollmondspaziergang: „Im Bann des Mondes“ – Gründonnerstag\, 02.04.2026 um 20:45 Uhr – Benefizveranstaltung für den Erhalt des Radoms
DESCRIPTION:Am Ende der nautischen Abenddämmerung beginnen wir unserem astronomischen Spaziergang im Bann des Vollmondlichts unter dem Sternenhimmel zwischen Winter und Frühling. Wir starten mit einer kurzen Einführung zum Sternenpark Rhön und warum nächtliches Kunstlicht nicht nur die Sternensicht beeinträchtigt\, sondern wichtige Rhythmen in der Natur stört. \n\n\n\n\n\n\n\nWährend des anschließenden Himmelsausflugs begeben wir uns auf die Spur der Gestirne. Dabei steht der Ostervollmond im Vordergrund. Als hellstes natürliches Licht taucht er die Rhöner Nachtlandschaft in ein magisches Licht – sein wildes Spiel mit ziehenden Wolken und Halo-Erscheinungen ist eine der ästhetischsten Himmelsphänomene. \n\n\n\nDer Mondlichtspaziergang bietet neben Einblicken in die mythischen und poetischen Geheimnisse des Mondes vor allem auch eine wissenschaftliche und dennoch heitere Betrachtung unseres Trabanten. Zudem werden die sichtbaren\, jahrzeitlichen Sterne erklärt und himmelsmechanische Vorgänge und astrophysikalische Zusammenhänge anschaulich erläutert. \n\n\n\nBei hoher Regenwahrscheinlichkeit oder Nebel findet die Veranstaltung im Radom statt. \n\n\n\nEine Absage erfolgt nur im Falle einer amtlichen Unwetterwarnung des Deutschen Wetterdienstes. Bitte prüfen Sie vor Anreise nochmal Ihre E-Mails. \n\n\n\nDauer\, Kleidung und Sonstiges: Die Führung dauert ca. 1\,5 – 2 h. Bitte warme Outdoor-Kleidung und festes Schuhwerk tragen\, ggf. noch eine Decke zum Umhängen oder Draufsetzen mitbringen. Das Mitführen von Taschenlampen ist nicht erforderlich. Es lohnt sich\, bei klarer Sicht ein Fernglas mitzubringen. \n\n\n\n\nTreffpunkt: Vor dem Eingang des Radoms auf der Wasserkuppe.\n\n\n\nVeranstalter: Radom Flug gGmbH und Verein Sternenpark Rhön e.V.\n\n\n\nKosten: Alle Einnahmen kommen dem Erhalt des Radoms zugute! – 15 € Erwachsene/Kinder bis inkl. 11 Jahre 10 €.\n\n\n\nAnmeldung unter: info@radom-wasserkuppe.de oder s.frank@verein-sternenpark-rhoen.de – Sie erhalten eine Anmeldebestätigung.  
URL:https://radom-wasserkuppe.de/termin/astronomischer-vollmondspaziergang-im-bann-des-mondes-gruendonnerstag-02-04-2026-um-2045-uhr-benefizveranstaltung-fuer-den-erhalt-des-radoms/
LOCATION:Radom Wasserkuppe\, Wasserkuppe 950\, Gersfeld\, Hessen\, 36129\, Deutschland
CATEGORIES:Führung
ATTACH;FMTTYPE=image/webp:https://radom-wasserkuppe.de/wp-content/uploads/2026/03/radom_vollmondspaziergang_1600x900.webp
ORGANIZER;CN="Verein Sternenpark Rh%C3%B6n e.V.":MAILTO:info@sternenpark-rhoen.de
END:VEVENT
END:VCALENDAR